BEGIN:VCALENDAR
VERSION:2.0
PRODID:-//One - ECPv6.15.20//NONSGML v1.0//EN
CALSCALE:GREGORIAN
METHOD:PUBLISH
X-WR-CALNAME:One
X-ORIGINAL-URL:https://one-now.ch
X-WR-CALDESC:Veranstaltungen im One
REFRESH-INTERVAL;VALUE=DURATION:PT1H
X-Robots-Tag:noindex
X-PUBLISHED-TTL:PT1H
BEGIN:VTIMEZONE
TZID:UTC
BEGIN:STANDARD
TZOFFSETFROM:+0000
TZOFFSETTO:+0000
TZNAME:UTC
DTSTART:20250101T000000
END:STANDARD
END:VTIMEZONE
BEGIN:VEVENT
DTSTART;TZID=UTC:20260423T183000
DTEND;TZID=UTC:20260423T210000
DTSTAMP:20260420T010635
CREATED:20251123T135752Z
LAST-MODIFIED:20251123T135753Z
UID:2134-1776969000-1776978000@one-now.ch
SUMMARY:CAYA
DESCRIPTION:Spüre deine Sinnlichkeit\, folge deiner Neugier – und fülle dein Leben mit Lust\, Freude und Lebendigkeit.\n\n\n\nEin Kreis für Frauen\, die mehr wollen – mehr Leben\, mehr Lust\, mehr Echtheit. Erlaube dir\, sinnlich neugierig zu sein und deine innere Lebendigkeit zu erforschen. Was du hier erfährst\, fließt in dein tägliches Leben – in Beziehung\, Beruf und Sein. Ein regelmäßiges Zusammenkommen mit Frauen\, die sich nach dem Gleichen sehnen: nach Tiefe\, Freude\, Lust\, Nähe und gelebter Weiblichkeit. Ein sicherer Raum\, in dem du dir selbst und anderen echt\, verletzlich und authentisch begegnenkannst.C A Y A – come as you are. Weil Einzigartigkeit wunderschön ist. \n\n\n\n120.- \n\n\n\nBUCHEN
URL:https://one-now.ch/event/caya-3/
ATTACH;FMTTYPE=image/jpeg:https://one-now.ch/wp-content/uploads/2025/11/CAYA_1_klein.jpg
END:VEVENT
BEGIN:VEVENT
DTSTART;TZID=UTC:20260509T090000
DTEND;TZID=UTC:20260509T180000
DTSTAMP:20260420T010635
CREATED:20251123T131802Z
LAST-MODIFIED:20260215T164532Z
UID:2116-1778317200-1778349600@one-now.ch
SUMMARY:Shift to Love #1 - Solo Edition
DESCRIPTION:Tiefe & mühelose Verbindung aus dem Sein statt anstrengende Beziehung aus dem Tun\n\n\n\nDu willst Deine Beziehungsfähigkeit weiterentwickeln und bist gerade Single oder Dein Lieblingsmensch will oder kann nicht mitkommen? Kein Problem\, wir bieten unser bewährtes Paar-Mini-Retreat auch für Einzelpersonen an. Du erhältst ein umfassendes Ugrade für Deine Relational Mastery\, Deine Beziehungsmeisterschaft\, indem wir Dir zeigen\, wie Du für Dich und andere ein Beziehungsgefäss schaffen kannst\, das Raum für eine unerschöpfliche Fülle von Freude\, Lust\, Heilung\, Wachstum und Verbindung bietet. Und zwar im Alltag. Weil das nicht nur möglich ist\, sondern genau so sein soll. \n\n\n\n375.- pro Person \n\n\n\nBUCHEN
URL:https://one-now.ch/event/shift-to-love-1-solo-edition/
ATTACH;FMTTYPE=image/png:https://one-now.ch/wp-content/uploads/2025/05/250707_one_now_flyers_WEB3_mini.png
END:VEVENT
BEGIN:VEVENT
DTSTART;TZID=UTC:20260513T190000
DTEND;TZID=UTC:20260513T210000
DTSTAMP:20260420T010635
CREATED:20251123T130629Z
LAST-MODIFIED:20251123T130630Z
UID:2108-1778698800-1778706000@one-now.ch
SUMMARY:Open ONE Temple
DESCRIPTION:Betrete unseren Tempel der Menschlichkeit\n\n\n\nDu willst in kurzer Zeit den direkten Weg zu Deiner Essenz\, Deiner Ganzheit\, Deiner tiefen Kraft und Quelle von Lebendigkeit und Lebenslust finden und erleben? Dann bist Du in unseren Open ONE-Temples genau richtig. Wir nehmen Dich mit auf eine Reise in Dein Inneres mit Hilfe von Geführten Meditationen und laden Dich ein\, das Geschenk Deines tiefesten Seins über Embodiment zum Ausdruck\, über Organic Relating in Verbindung mit anderen und über Kreisarbeit ins Kollektiv zu bringen.  \n\n\n\n60.- \n\n\n\nBUCHEN
URL:https://one-now.ch/event/open-one-temple-4/
ATTACH;FMTTYPE=image/png:https://one-now.ch/wp-content/uploads/2025/08/ONE-Temple-Nights_mini.png
END:VEVENT
BEGIN:VEVENT
DTSTART;TZID=UTC:20260521T183000
DTEND;TZID=UTC:20260521T210000
DTSTAMP:20260420T010635
CREATED:20251123T135826Z
LAST-MODIFIED:20251123T135827Z
UID:2136-1779388200-1779397200@one-now.ch
SUMMARY:CAYA
DESCRIPTION:Spüre deine Sinnlichkeit\, folge deiner Neugier – und fülle dein Leben mit Lust\, Freude und Lebendigkeit.\n\n\n\nEin Kreis für Frauen\, die mehr wollen – mehr Leben\, mehr Lust\, mehr Echtheit. Erlaube dir\, sinnlich neugierig zu sein und deine innere Lebendigkeit zu erforschen. Was du hier erfährst\, fließt in dein tägliches Leben – in Beziehung\, Beruf und Sein. Ein regelmäßiges Zusammenkommen mit Frauen\, die sich nach dem Gleichen sehnen: nach Tiefe\, Freude\, Lust\, Nähe und gelebter Weiblichkeit. Ein sicherer Raum\, in dem du dir selbst und anderen echt\, verletzlich und authentisch begegnenkannst.C A Y A – come as you are. Weil Einzigartigkeit wunderschön ist. \n\n\n\n120.- \n\n\n\nBUCHEN
URL:https://one-now.ch/event/caya-4/
ATTACH;FMTTYPE=image/jpeg:https://one-now.ch/wp-content/uploads/2025/11/CAYA_1_klein.jpg
END:VEVENT
BEGIN:VEVENT
DTSTART;TZID=UTC:20260613T140000
DTEND;TZID=UTC:20260613T170000
DTSTAMP:20260420T010635
CREATED:20251123T131326Z
LAST-MODIFIED:20251123T131326Z
UID:2114-1781359200-1781370000@one-now.ch
SUMMARY:Rage Circle
DESCRIPTION:Befreie Deine unterdrückte Lebensenergie\n\n\n\nWir leben in einer Welt und Gesellschaft\, in der wir von klein auf lernen\, unsere Wut und unsere gesunde Aggression zu unterdrücken. Und trennen uns dadurch von der zentralsten Quelle unserer Lebendigkeit\, Lebenskraft und Lebensfreude ab. Wir schaffen für mutige und herzoffene Menschen den sicheren und geschützten Raum und Rahmen\, den sie benötigen\, um sich wieder Zugang zu dieser Quelle zu verschaffen. Willst Du Dein Nervensystem von altem\, unnötigem Ballast befreien\, endlich wieder einmal so richtig Deine Urkraft spüren und Deine Lebensfreude in die Welt hinausschreien? \n\n\n\n90.- \n\n\n\nRage Circle BUCHEN\n\n\n\nDu kannst unsere Rage Circles einzeln besuchen oder im Rahmen unseres «Emotional Mastery» Programms.  \n\n\n\nEmotional Mastery Infos
URL:https://one-now.ch/event/rage-circle-5/
ATTACH;FMTTYPE=image/png:https://one-now.ch/wp-content/uploads/2025/05/250707_one_now_flyers_WEB1_mini.png
END:VEVENT
BEGIN:VEVENT
DTSTART;TZID=UTC:20260617T190000
DTEND;TZID=UTC:20260617T210000
DTSTAMP:20260420T010635
CREATED:20251123T130656Z
LAST-MODIFIED:20251123T130657Z
UID:2110-1781722800-1781730000@one-now.ch
SUMMARY:Open ONE Temple
DESCRIPTION:Betrete unseren Tempel der Menschlichkeit\n\n\n\nDu willst in kurzer Zeit den direkten Weg zu Deiner Essenz\, Deiner Ganzheit\, Deiner tiefen Kraft und Quelle von Lebendigkeit und Lebenslust finden und erleben? Dann bist Du in unseren Open ONE-Temples genau richtig. Wir nehmen Dich mit auf eine Reise in Dein Inneres mit Hilfe von Geführten Meditationen und laden Dich ein\, das Geschenk Deines tiefesten Seins über Embodiment zum Ausdruck\, über Organic Relating in Verbindung mit anderen und über Kreisarbeit ins Kollektiv zu bringen.  \n\n\n\n60.- \n\n\n\nBUCHEN
URL:https://one-now.ch/event/open-one-temple-5/
ATTACH;FMTTYPE=image/png:https://one-now.ch/wp-content/uploads/2025/08/ONE-Temple-Nights_mini.png
END:VEVENT
BEGIN:VEVENT
DTSTART;TZID=UTC:20260625T183000
DTEND;TZID=UTC:20260625T210000
DTSTAMP:20260420T010635
CREATED:20251123T135850Z
LAST-MODIFIED:20251123T135851Z
UID:2138-1782412200-1782421200@one-now.ch
SUMMARY:CAYA
DESCRIPTION:Spüre deine Sinnlichkeit\, folge deiner Neugier – und fülle dein Leben mit Lust\, Freude und Lebendigkeit.\n\n\n\nEin Kreis für Frauen\, die mehr wollen – mehr Leben\, mehr Lust\, mehr Echtheit. Erlaube dir\, sinnlich neugierig zu sein und deine innere Lebendigkeit zu erforschen. Was du hier erfährst\, fließt in dein tägliches Leben – in Beziehung\, Beruf und Sein. Ein regelmäßiges Zusammenkommen mit Frauen\, die sich nach dem Gleichen sehnen: nach Tiefe\, Freude\, Lust\, Nähe und gelebter Weiblichkeit. Ein sicherer Raum\, in dem du dir selbst und anderen echt\, verletzlich und authentisch begegnenkannst.C A Y A – come as you are. Weil Einzigartigkeit wunderschön ist. \n\n\n\n120.- \n\n\n\nBUCHEN
URL:https://one-now.ch/event/caya-5/
ATTACH;FMTTYPE=image/jpeg:https://one-now.ch/wp-content/uploads/2025/11/CAYA_1_klein.jpg
END:VEVENT
END:VCALENDAR